BEGIN:VCALENDAR
VERSION:2.0
PRODID:-//MV-Trachtenkapelle 1923 Dilsberg e.V. - ECPv6.8.3//NONSGML v1.0//EN
CALSCALE:GREGORIAN
METHOD:PUBLISH
X-ORIGINAL-URL:https://www.trachtenkapelle-dilsberg.de
X-WR-CALDESC:Veranstaltungen für MV-Trachtenkapelle 1923 Dilsberg e.V.
REFRESH-INTERVAL;VALUE=DURATION:PT1H
X-Robots-Tag:noindex
X-PUBLISHED-TTL:PT1H
BEGIN:VTIMEZONE
TZID:Europe/Berlin
BEGIN:DAYLIGHT
TZOFFSETFROM:+0100
TZOFFSETTO:+0200
TZNAME:CEST
DTSTART:20240331T010000
END:DAYLIGHT
BEGIN:STANDARD
TZOFFSETFROM:+0200
TZOFFSETTO:+0100
TZNAME:CET
DTSTART:20241027T010000
END:STANDARD
END:VTIMEZONE
BEGIN:VEVENT
DTSTART;TZID=Europe/Berlin:20241108T190000
DTEND;TZID=Europe/Berlin:20241108T200000
DTSTAMP:20260425T132713
CREATED:20240718T124046Z
LAST-MODIFIED:20240718T124046Z
UID:6071-1731092400-1731096000@www.trachtenkapelle-dilsberg.de
SUMMARY:Eröffnung Bohrermarkt (Festzelt\, abends)
DESCRIPTION:
URL:https://www.trachtenkapelle-dilsberg.de/termin/eroeffnung-bohrermarkt-festzelt-abends/
LOCATION:Festzelt Neckargemünd
END:VEVENT
BEGIN:VEVENT
DTSTART;TZID=Europe/Berlin:20241109T140000
DTEND;TZID=Europe/Berlin:20241109T170000
DTSTAMP:20260425T132713
CREATED:20240718T124214Z
LAST-MODIFIED:20240718T124214Z
UID:6073-1731160800-1731171600@www.trachtenkapelle-dilsberg.de
SUMMARY:Seniorennachmittag Neckargemünd (Festzelt\, Nachmittags)
DESCRIPTION:
URL:https://www.trachtenkapelle-dilsberg.de/termin/seniorennachmittag-neckargemuend-festzelt-nachmittags/
LOCATION:Festzelt Neckargemünd
END:VEVENT
BEGIN:VEVENT
DTSTART;TZID=Europe/Berlin:20241111T180000
DTEND;TZID=Europe/Berlin:20241111T190000
DTSTAMP:20260425T132713
CREATED:20240718T115510Z
LAST-MODIFIED:20240718T115510Z
UID:6030-1731348000-1731351600@www.trachtenkapelle-dilsberg.de
SUMMARY:Martinsumzug Dilsberg
DESCRIPTION:
URL:https://www.trachtenkapelle-dilsberg.de/termin/martinsumzug-dilsberg-4/
LOCATION:Dilsberg
END:VEVENT
BEGIN:VEVENT
DTSTART;TZID=Europe/Berlin:20241112T180000
DTEND;TZID=Europe/Berlin:20241112T190000
DTSTAMP:20260425T132713
CREATED:20240718T115640Z
LAST-MODIFIED:20240718T115640Z
UID:6032-1731434400-1731438000@www.trachtenkapelle-dilsberg.de
SUMMARY:Martinsumzug Neckargemünd
DESCRIPTION:
URL:https://www.trachtenkapelle-dilsberg.de/termin/martinsumzug-neckargemuend/
LOCATION:Neckargemünd
END:VEVENT
BEGIN:VEVENT
DTSTART;TZID=Europe/Berlin:20241117T113000
DTEND;TZID=Europe/Berlin:20241117T120000
DTSTAMP:20260425T132713
CREATED:20240718T115807Z
LAST-MODIFIED:20240718T115807Z
UID:6034-1731843000-1731844800@www.trachtenkapelle-dilsberg.de
SUMMARY:Volkstrauertag\, Feierstunde im Burghof Dilsberg
DESCRIPTION:
URL:https://www.trachtenkapelle-dilsberg.de/termin/volkstrauertag-feierstunde-im-burghof-dilsberg/
LOCATION:Burghof Dilsberg
END:VEVENT
END:VCALENDAR