BEGIN:VCALENDAR
VERSION:2.0
PRODID:-//MV-Trachtenkapelle 1923 Dilsberg e.V. - ECPv6.8.3//NONSGML v1.0//EN
CALSCALE:GREGORIAN
METHOD:PUBLISH
X-ORIGINAL-URL:https://www.trachtenkapelle-dilsberg.de
X-WR-CALDESC:Veranstaltungen für MV-Trachtenkapelle 1923 Dilsberg e.V.
REFRESH-INTERVAL;VALUE=DURATION:PT1H
X-Robots-Tag:noindex
X-PUBLISHED-TTL:PT1H
BEGIN:VTIMEZONE
TZID:Europe/Berlin
BEGIN:DAYLIGHT
TZOFFSETFROM:+0100
TZOFFSETTO:+0200
TZNAME:CEST
DTSTART:20240331T010000
END:DAYLIGHT
BEGIN:STANDARD
TZOFFSETFROM:+0200
TZOFFSETTO:+0100
TZNAME:CET
DTSTART:20241027T010000
END:STANDARD
END:VTIMEZONE
BEGIN:VEVENT
DTSTART;TZID=Europe/Berlin:20240817T190000
DTEND;TZID=Europe/Berlin:20240817T210000
DTSTAMP:20260425T183113
CREATED:20240718T113616Z
LAST-MODIFIED:20240718T113616Z
UID:6008-1723921200-1723928400@www.trachtenkapelle-dilsberg.de
SUMMARY:Altortfest Neidenstein/Nusikverein
DESCRIPTION:
URL:https://www.trachtenkapelle-dilsberg.de/termin/altortfest-neidenstein-nusikverein/
LOCATION:Neidenstein
END:VEVENT
BEGIN:VEVENT
DTSTART;TZID=Europe/Berlin:20240818T120000
DTEND;TZID=Europe/Berlin:20240818T140000
DTSTAMP:20260425T183113
CREATED:20240312T122223Z
LAST-MODIFIED:20240312T122223Z
UID:5819-1723982400-1723989600@www.trachtenkapelle-dilsberg.de
SUMMARY:Kerwe Bammental (Zeit steht noch nicht fest)
DESCRIPTION:
URL:https://www.trachtenkapelle-dilsberg.de/termin/kerwe-bammental-zeit-steht-noch-nicht-fest/
LOCATION:Bammental
END:VEVENT
BEGIN:VEVENT
DTSTART;TZID=Europe/Berlin:20240825T140000
DTEND;TZID=Europe/Berlin:20240825T170000
DTSTAMP:20260425T183113
CREATED:20240718T123618Z
LAST-MODIFIED:20240718T123618Z
UID:6067-1724594400-1724605200@www.trachtenkapelle-dilsberg.de
SUMMARY:Omnibus Mayer 50 Jahre nachmittags
DESCRIPTION:
URL:https://www.trachtenkapelle-dilsberg.de/termin/omnibus-mayer-50-jahre-nachmittags/
LOCATION:Mayer Rainbach
END:VEVENT
END:VCALENDAR