BEGIN:VCALENDAR
VERSION:2.0
PRODID:-//MV-Trachtenkapelle 1923 Dilsberg e.V. - ECPv6.8.3//NONSGML v1.0//EN
CALSCALE:GREGORIAN
METHOD:PUBLISH
X-ORIGINAL-URL:https://www.trachtenkapelle-dilsberg.de
X-WR-CALDESC:Veranstaltungen für MV-Trachtenkapelle 1923 Dilsberg e.V.
REFRESH-INTERVAL;VALUE=DURATION:PT1H
X-Robots-Tag:noindex
X-PUBLISHED-TTL:PT1H
BEGIN:VTIMEZONE
TZID:Europe/Berlin
BEGIN:DAYLIGHT
TZOFFSETFROM:+0100
TZOFFSETTO:+0200
TZNAME:CEST
DTSTART:20240331T010000
END:DAYLIGHT
BEGIN:STANDARD
TZOFFSETFROM:+0200
TZOFFSETTO:+0100
TZNAME:CET
DTSTART:20241027T010000
END:STANDARD
END:VTIMEZONE
BEGIN:VEVENT
DTSTART;TZID=Europe/Berlin:20240729T190000
DTEND;TZID=Europe/Berlin:20240729T230000
DTSTAMP:20260425T201020
CREATED:20240312T122045Z
LAST-MODIFIED:20240312T122425Z
UID:5816-1722279600-1722294000@www.trachtenkapelle-dilsberg.de
SUMMARY:Musikfest MV Wiesenbach
DESCRIPTION:
URL:https://www.trachtenkapelle-dilsberg.de/termin/musikfest-mv-wiesenbach-3/
LOCATION:Wiesenbach
END:VEVENT
END:VCALENDAR