BEGIN:VCALENDAR
VERSION:2.0
PRODID:-//MV-Trachtenkapelle 1923 Dilsberg e.V. - ECPv6.8.3//NONSGML v1.0//EN
CALSCALE:GREGORIAN
METHOD:PUBLISH
X-WR-CALNAME:MV-Trachtenkapelle 1923 Dilsberg e.V.
X-ORIGINAL-URL:https://www.trachtenkapelle-dilsberg.de
X-WR-CALDESC:Veranstaltungen für MV-Trachtenkapelle 1923 Dilsberg e.V.
REFRESH-INTERVAL;VALUE=DURATION:PT1H
X-Robots-Tag:noindex
X-PUBLISHED-TTL:PT1H
BEGIN:VTIMEZONE
TZID:Europe/Berlin
BEGIN:DAYLIGHT
TZOFFSETFROM:+0100
TZOFFSETTO:+0200
TZNAME:CEST
DTSTART:20250330T010000
END:DAYLIGHT
BEGIN:STANDARD
TZOFFSETFROM:+0200
TZOFFSETTO:+0100
TZNAME:CET
DTSTART:20251026T010000
END:STANDARD
END:VTIMEZONE
BEGIN:VEVENT
DTSTART;TZID=Europe/Berlin:20250525T160000
DTEND;TZID=Europe/Berlin:20250525T170000
DTSTAMP:20260425T041714
CREATED:20250303T132218Z
LAST-MODIFIED:20250303T132218Z
UID:6258-1748188800-1748192400@www.trachtenkapelle-dilsberg.de
SUMMARY:Verabschiedung Pfarrerin M. Deichl
DESCRIPTION:
URL:https://www.trachtenkapelle-dilsberg.de/termin/verabschiedung-pfarrerin-m-deichl/
LOCATION:Tuchbleichenhalle
END:VEVENT
END:VCALENDAR