BEGIN:VCALENDAR
VERSION:2.0
PRODID:-//MV-Trachtenkapelle 1923 Dilsberg e.V. - ECPv6.8.3//NONSGML v1.0//EN
CALSCALE:GREGORIAN
METHOD:PUBLISH
X-ORIGINAL-URL:https://www.trachtenkapelle-dilsberg.de
X-WR-CALDESC:Veranstaltungen für MV-Trachtenkapelle 1923 Dilsberg e.V.
REFRESH-INTERVAL;VALUE=DURATION:PT1H
X-Robots-Tag:noindex
X-PUBLISHED-TTL:PT1H
BEGIN:VTIMEZONE
TZID:Europe/Berlin
BEGIN:DAYLIGHT
TZOFFSETFROM:+0100
TZOFFSETTO:+0200
TZNAME:CEST
DTSTART:20240331T010000
END:DAYLIGHT
BEGIN:STANDARD
TZOFFSETFROM:+0200
TZOFFSETTO:+0100
TZNAME:CET
DTSTART:20241027T010000
END:STANDARD
END:VTIMEZONE
BEGIN:VEVENT
DTSTART;TZID=Europe/Berlin:20240908T113000
DTEND;TZID=Europe/Berlin:20240908T140000
DTSTAMP:20260425T182835
CREATED:20240718T114456Z
LAST-MODIFIED:20240718T114456Z
UID:6017-1725795000-1725804000@www.trachtenkapelle-dilsberg.de
SUMMARY:Kerwe Eschelbronn / An der Sporthalle
DESCRIPTION:
URL:https://www.trachtenkapelle-dilsberg.de/termin/kerwe-eschelbronn-an-der-sporthalle/
LOCATION:Eschelbronn
END:VEVENT
END:VCALENDAR